BEGIN:VCALENDAR
VERSION:2.0
PRODID:-// - ECPv6.15.20//NONSGML v1.0//EN
CALSCALE:GREGORIAN
METHOD:PUBLISH
X-ORIGINAL-URL:https://f-honoho.net
X-WR-CALDESC: のイベント
REFRESH-INTERVAL;VALUE=DURATION:PT1H
X-Robots-Tag:noindex
X-PUBLISHED-TTL:PT1H
BEGIN:VTIMEZONE
TZID:Asia/Tokyo
BEGIN:STANDARD
TZOFFSETFROM:+0900
TZOFFSETTO:+0900
TZNAME:JST
DTSTART:20250101T000000
END:STANDARD
END:VTIMEZONE
BEGIN:VEVENT
DTSTART;TZID=Asia/Tokyo:20260318T110000
DTEND;TZID=Asia/Tokyo:20260329T180000
DTSTAMP:20260421T184541
CREATED:20260220T044433Z
LAST-MODIFIED:20260220T044433Z
UID:219-1773831600-1774807200@f-honoho.net
SUMMARY:ほのほイベント【久山峰年　絵画展〜穏やかな日常〜】
DESCRIPTION:ほのほイベント【久山峰年　絵画展〜穏やかな日常〜】 \n日時　２０２６年３月１８日(水)〜２９日(日)\n１１時〜１８時\n(３月２９日は１６時まで) \n入場料　無料 \n🖼️菜の花が春の訪れを告げ、そろそろカタクリの花が山野を彩ります\nさて、毎年一回開催させて頂いております私の個展も７回目を迎えることとなりました\n今回のテーマは「穏やかな日常」\n清光雨読の日常の中でキャンパスに描いた作品をご覧頂ければと思っています\nお時間がございましたらお気軽にお立ち寄りいただければ幸いです(久山峰年)
URL:https://f-honoho.net/event/%e3%81%bb%e3%81%ae%e3%81%bb%e3%82%a4%e3%83%99%e3%83%b3%e3%83%88%e3%80%90%e4%b9%85%e5%b1%b1%e5%b3%b0%e5%b9%b4%e3%80%80%e7%b5%b5%e7%94%bb%e5%b1%95%e3%80%9c%e7%a9%8f%e3%82%84%e3%81%8b%e3%81%aa%e6%97%a5/
ATTACH;FMTTYPE=image/jpeg:https://f-honoho.net/wp-content/uploads/2026/02/2297E0B8-54DE-4C83-944F-6F8235F6161D.jpeg
END:VEVENT
BEGIN:VEVENT
DTSTART;TZID=Asia/Tokyo:20260327T190000
DTEND;TZID=Asia/Tokyo:20260327T220000
DTSTAMP:20260421T184541
CREATED:20260216T041458Z
LAST-MODIFIED:20260216T041458Z
UID:206-1774638000-1774648800@f-honoho.net
SUMMARY:ほのほコンサート【諏訪光風(ギター)&ブルース・ヒューバナー(尺八)桜前線liveツアー】
DESCRIPTION:ほのほコンサート【諏訪光風(ギター)＆ブルース・ヒューバナー(尺八) 桜前線liveツアー】 \n日時　２０２６年３月２７日(金) １９時開演 \nチケット料金\n一般　３，８００円(１ドリンクつき)\n高校生以下　２，２００円(１ドリンクつき) \n🌸諏訪光風\n鹿児島県出身、13歳より独学でギターを始め、1985年よりプロとして活動を開始…\nジャンルや様式にとらわれない柔軟な音楽性と多彩な音楽エッセンスを融合させた独自のサウンドを持つ… \n🌸ブルース・ヒューバナー\n尺八に惹かれ1983年に初来日する…\nカルフォルニア州立大学で、東洋学を学んだのち東京芸術大学邦楽科修士課程で故人間国宝山口五郎氏に師事、1993年に外国人として初めて邦楽科を主席で終了する…
URL:https://f-honoho.net/event/%e3%81%bb%e3%81%ae%e3%81%bb%e3%82%b3%e3%83%b3%e3%82%b5%e3%83%bc%e3%83%88%e3%80%90%e8%ab%8f%e8%a8%aa%e5%85%89%e9%a2%a8%e3%82%ae%e3%82%bf%e3%83%bc%e3%83%96%e3%83%ab%e3%83%bc%e3%82%b9%e3%83%bb/
ATTACH;FMTTYPE=image/jpeg:https://f-honoho.net/wp-content/uploads/2026/02/31AECFB1-015E-4EA4-B5AA-EB40BE6E57FD.jpeg
END:VEVENT
END:VCALENDAR