BEGIN:VCALENDAR
VERSION:2.0
PRODID:-// - ECPv6.15.20//NONSGML v1.0//EN
CALSCALE:GREGORIAN
METHOD:PUBLISH
X-ORIGINAL-URL:https://f-honoho.net
X-WR-CALDESC: のイベント
REFRESH-INTERVAL;VALUE=DURATION:PT1H
X-Robots-Tag:noindex
X-PUBLISHED-TTL:PT1H
BEGIN:VTIMEZONE
TZID:Asia/Tokyo
BEGIN:STANDARD
TZOFFSETFROM:+0900
TZOFFSETTO:+0900
TZNAME:JST
DTSTART:20250101T000000
END:STANDARD
END:VTIMEZONE
BEGIN:VEVENT
DTSTART;TZID=Asia/Tokyo:20260109T110000
DTEND;TZID=Asia/Tokyo:20260201T170000
DTSTAMP:20260420T193320
CREATED:20251220T104546Z
LAST-MODIFIED:20251220T104546Z
UID:161-1767956400-1769965200@f-honoho.net
SUMMARY:辻野由樹　展〜挿絵でめぐる「千代姫」の世界と私の世界〜
DESCRIPTION:ほのほイベント【辻野由樹　展〜挿絵でめぐる「千代姫」の世界と私の世界〜】 \n日時　２０２６年１月９日(金)〜２月１日(日)\n１１時〜１７時\n(毎週水曜日定休日) \n入場料　無料 \n🖼️2025年1月から10月まで、四国新聞連載小説「千代姫」の挿絵を描かせていただきました\n激動の幕末から明治にかけて、人々はみな現代と変わらず泣いたり笑ったり、挑んだり悩んだり懸命に生きていました\n私も泣いたり笑ったり、私なりの悪戦苦闘の記録を展示いたします\n1Fでは普段のイラストもご紹介\nご高覧いただければ幸いです\n(辻野由樹)
URL:https://f-honoho.net/event/%e8%be%bb%e9%87%8e%e7%94%b1%e6%a8%b9%e3%80%80%e5%b1%95%e3%80%9c%e6%8c%bf%e7%b5%b5%e3%81%a7%e3%82%81%e3%81%90%e3%82%8b%e3%80%8c%e5%8d%83%e4%bb%a3%e5%a7%ab%e3%80%8d%e3%81%ae%e4%b8%96%e7%95%8c%e3%81%a8/
ATTACH;FMTTYPE=image/jpeg:https://f-honoho.net/wp-content/uploads/2025/12/S__8978463.jpg
END:VEVENT
BEGIN:VEVENT
DTSTART;TZID=Asia/Tokyo:20260117T130000
DTEND;TZID=Asia/Tokyo:20260117T160000
DTSTAMP:20260420T193320
CREATED:20251221T072200Z
LAST-MODIFIED:20251221T072341Z
UID:164-1768654800-1768665600@f-honoho.net
SUMMARY:ビジョンボードを作ろう❗️
DESCRIPTION:ほのほワークショップ【ビジョンボードを作ろう❗️】 \n日時　２０２６年１月１７日(土) １３時〜１６時 \n参加費　５，０００円(１ドリンク付き) \n講師　大谷　洋子\n(整理収納アドバイザー) \n５名様限定です \n👍今年の夢を見える形にして叶えよう❗️\nビジョンボードとは自分のなりたい姿や叶えたい夢、目標を写真、イラスト、言葉などで視覚的にまとめたものです \n🍎今の環境に違和感があるけどまだ動き出せない方\n🍎もっと自分らしく生きたい方\n🍎これからの自分に必要なことを明確にしたい方 \n😄特典：九星気学個別アドバイス付き(運気の波に乗りましょう)
URL:https://f-honoho.net/event/%e3%83%93%e3%82%b8%e3%83%a7%e3%83%b3%e3%83%9c%e3%83%bc%e3%83%89%e3%82%92%e4%bd%9c%e3%82%8d%e3%81%86%e2%9d%97%ef%b8%8f/
ATTACH;FMTTYPE=image/jpeg:https://f-honoho.net/wp-content/uploads/2025/12/S__8986633.jpg
END:VEVENT
END:VCALENDAR