BEGIN:VCALENDAR
VERSION:2.0
PRODID:-// - ECPv6.15.20//NONSGML v1.0//EN
CALSCALE:GREGORIAN
METHOD:PUBLISH
X-ORIGINAL-URL:https://f-honoho.net
X-WR-CALDESC: のイベント
REFRESH-INTERVAL;VALUE=DURATION:PT1H
X-Robots-Tag:noindex
X-PUBLISHED-TTL:PT1H
BEGIN:VTIMEZONE
TZID:Asia/Tokyo
BEGIN:STANDARD
TZOFFSETFROM:+0900
TZOFFSETTO:+0900
TZNAME:JST
DTSTART:20250101T000000
END:STANDARD
END:VTIMEZONE
BEGIN:VEVENT
DTSTART;TZID=Asia/Tokyo:20260109T110000
DTEND;TZID=Asia/Tokyo:20260201T170000
DTSTAMP:20260420T181435
CREATED:20251220T104546Z
LAST-MODIFIED:20251220T104546Z
UID:161-1767956400-1769965200@f-honoho.net
SUMMARY:辻野由樹　展〜挿絵でめぐる「千代姫」の世界と私の世界〜
DESCRIPTION:ほのほイベント【辻野由樹　展〜挿絵でめぐる「千代姫」の世界と私の世界〜】 \n日時　２０２６年１月９日(金)〜２月１日(日)\n１１時〜１７時\n(毎週水曜日定休日) \n入場料　無料 \n🖼️2025年1月から10月まで、四国新聞連載小説「千代姫」の挿絵を描かせていただきました\n激動の幕末から明治にかけて、人々はみな現代と変わらず泣いたり笑ったり、挑んだり悩んだり懸命に生きていました\n私も泣いたり笑ったり、私なりの悪戦苦闘の記録を展示いたします\n1Fでは普段のイラストもご紹介\nご高覧いただければ幸いです\n(辻野由樹)
URL:https://f-honoho.net/event/%e8%be%bb%e9%87%8e%e7%94%b1%e6%a8%b9%e3%80%80%e5%b1%95%e3%80%9c%e6%8c%bf%e7%b5%b5%e3%81%a7%e3%82%81%e3%81%90%e3%82%8b%e3%80%8c%e5%8d%83%e4%bb%a3%e5%a7%ab%e3%80%8d%e3%81%ae%e4%b8%96%e7%95%8c%e3%81%a8/
ATTACH;FMTTYPE=image/jpeg:https://f-honoho.net/wp-content/uploads/2025/12/S__8978463.jpg
END:VEVENT
BEGIN:VEVENT
DTSTART;TZID=Asia/Tokyo:20260206T110000
DTEND;TZID=Asia/Tokyo:20260217T170000
DTSTAMP:20260420T181435
CREATED:20260116T102834Z
LAST-MODIFIED:20260116T102834Z
UID:170-1770375600-1771347600@f-honoho.net
SUMMARY:松浦まき(orihime)春の「さをり織」展
DESCRIPTION:ほのほイベント【松浦まき(orihime)春の「さをり織」展】 \n日時　２０２６年２月６日〜１７日(火)\n１１時〜１７時\n期間中作家在廊\n水曜日お休み\n２月１３日(金)１９時よりコンサートあり \n入場料　無料 \n🧣松浦まき\n２０年前、さをり織を仕事として毎年香川内や鳴門で展示即売を始めた\nプライベートでは１０年前から南インドのマンガロール、スリランカのゴールに生活拠点を移し織ったものを持ち帰り日本で販売\n行ったり来たりの日々…
URL:https://f-honoho.net/event/%e6%9d%be%e6%b5%a6%e3%81%be%e3%81%8dorihime%e6%98%a5%e3%81%ae%e3%80%8c%e3%81%95%e3%82%92%e3%82%8a%e7%b9%94%e3%80%8d%e5%b1%95/
ATTACH;FMTTYPE=image/jpeg:https://f-honoho.net/wp-content/uploads/2026/01/S__9142286.jpg
END:VEVENT
BEGIN:VEVENT
DTSTART;TZID=Asia/Tokyo:20260213T190000
DTEND;TZID=Asia/Tokyo:20260213T210000
DTSTAMP:20260420T181435
CREATED:20260116T103207Z
LAST-MODIFIED:20260120T140930Z
UID:173-1771009200-1771016400@f-honoho.net
SUMMARY:柴田泰孝CONCERT IN 香川
DESCRIPTION:ほのほコンサート【柴田泰孝CONCERT IN 香川】 \n日時　２０２５年２月１３日(金) 開演１９時〜 \nチケット料金　４，０００円\n(１ドリンク付き) \n🎵柴田泰孝\n岩手県岩手郡岩手町出身、岩手高等学校、洗足学園音楽大学音楽学部声楽家、岩手町ふるさと大使\n2016年いわて国体開幕式典前演技にて、天皇・皇后両陛下(現上皇・上皇后両陛下)の午前にて東日本大震災岩手復興支援曲「ふるさとの風」(さだまさし作曲)をソリストとして岩手、宮城、福島被災三県合同合唱団と歌唱\n2018年デビスカップ日本代表vsイタリア代表開幕式にてイタリア国歌独唱\n2023〜2024年ミュージカル「ジキルとハイド」イタリアキャスト(ジキルとハイド役)に出演 \n🎵今野勝晴\nキーボードプレイヤー・編曲・作曲家\n劇団四季「クレイジーフォーユー」「南十字星」「Wicked」「サウンドオブミュージック」「オペラ座の怪人」\nピンクレディー、小柳ルミ子、真梨邑ケイet
URL:https://f-honoho.net/event/%e6%9f%b4%e7%94%b0%e6%b3%b0%e5%ad%9dconcert-in-%e9%a6%99%e5%b7%9d/
ATTACH;FMTTYPE=image/jpeg:https://f-honoho.net/wp-content/uploads/2026/01/S__9158662.jpg
END:VEVENT
BEGIN:VEVENT
DTSTART;TZID=Asia/Tokyo:20260220T110000
DTEND;TZID=Asia/Tokyo:20260222T170000
DTSTAMP:20260420T181435
CREATED:20260217T080032Z
LAST-MODIFIED:20260217T080032Z
UID:213-1771585200-1771779600@f-honoho.net
SUMMARY:【延長のお知らせ】ほのほイベント【松浦まき(orihime)春の「さをり織」展】
DESCRIPTION:【延長のお知らせ】\nほのほイベント【松浦まき(orihime)春の「さをり織」展】 \n🧣日時　２０２６年２月２０日(金)〜２２日(日)\n１１時〜１７時\n(２２日は１５時まで) \n🧣入場料　無料
URL:https://f-honoho.net/event/%e3%80%90%e5%bb%b6%e9%95%b7%e3%81%ae%e3%81%8a%e7%9f%a5%e3%82%89%e3%81%9b%e3%80%91%e3%81%bb%e3%81%ae%e3%81%bb%e3%82%a4%e3%83%99%e3%83%b3%e3%83%88%e3%80%90%e6%9d%be%e6%b5%a6%e3%81%be%e3%81%8dorihime/
ATTACH;FMTTYPE=image/jpeg:https://f-honoho.net/wp-content/uploads/2026/01/S__9142286.jpg
END:VEVENT
BEGIN:VEVENT
DTSTART;TZID=Asia/Tokyo:20260220T190000
DTEND;TZID=Asia/Tokyo:20260220T210000
DTSTAMP:20260420T181435
CREATED:20260120T141127Z
LAST-MODIFIED:20260120T141127Z
UID:178-1771614000-1771621200@f-honoho.net
SUMMARY:菅涼子(ボーカル・フルート)×川村健(ピアノ)　DUO 2026
DESCRIPTION:ほのほコンサート【菅涼子(ボーカル・フルート)×川村健(ピアノ)　DUO 2026】 \n日時　２０２６年２月２０日(金) １９時開演 \nチケット料金　３，５００円(ドリンク別途) \n🎵菅涼子と川村健によるアルバム「#」シリーズ\nどこまでも自由に、果てしない探究心で紡がれる音の対話…\nその響きは、時に重厚に、時に激しく、そして鮮やかに美しく…\nまるで宗教画を錯覚させるような、珠玉のデュオ… \n🎵菅涼子\n愛媛県伊予三島市生まれ\n香川県立坂出高等学校音楽科作陽音楽大学音楽学科フルート専攻\n在学中よりボーカル、フルーティストとしてプロ活動を開始\n自由でジャンルレス、メロディックな主題とホーンライクなスキャットは独特のスタイルである \n🎵川村健\n1983年東京生まれ\n東京理科大学ジャズ研究会に所属してから独学でジャズを学ぶ…\n自由かつ繊細なプレイスタイルは唯一無二のものであり、高い評価を得ている…\n大山日出男(as)、大友義雄(as)、高澤綾(tp)、北床宗太郎(vin)等のグループやピアノトリオでの活動を中心に日本国内でライブやツアー、レコーディング等幅広く活躍している…
URL:https://f-honoho.net/event/%e8%8f%85%e6%b6%bc%e5%ad%90%e3%83%9c%e3%83%bc%e3%82%ab%e3%83%ab%e3%83%bb%e3%83%95%e3%83%ab%e3%83%bc%e3%83%88x%e5%b7%9d%e6%9d%91%e5%81%a5%e3%83%94%e3%82%a2%e3%83%8e%e3%80%80duo-2026/
ATTACH;FMTTYPE=image/jpeg:https://f-honoho.net/wp-content/uploads/2026/01/S__9207829.jpg
END:VEVENT
END:VCALENDAR