BEGIN:VCALENDAR
VERSION:2.0
PRODID:-// - ECPv6.15.20//NONSGML v1.0//EN
CALSCALE:GREGORIAN
METHOD:PUBLISH
X-ORIGINAL-URL:https://f-honoho.net
X-WR-CALDESC: のイベント
REFRESH-INTERVAL;VALUE=DURATION:PT1H
X-Robots-Tag:noindex
X-PUBLISHED-TTL:PT1H
BEGIN:VTIMEZONE
TZID:Asia/Tokyo
BEGIN:STANDARD
TZOFFSETFROM:+0900
TZOFFSETTO:+0900
TZNAME:JST
DTSTART:20250101T000000
END:STANDARD
END:VTIMEZONE
BEGIN:VEVENT
DTSTART;TZID=Asia/Tokyo:20260109T110000
DTEND;TZID=Asia/Tokyo:20260201T170000
DTSTAMP:20260420T181536
CREATED:20251220T104546Z
LAST-MODIFIED:20251220T104546Z
UID:161-1767956400-1769965200@f-honoho.net
SUMMARY:辻野由樹　展〜挿絵でめぐる「千代姫」の世界と私の世界〜
DESCRIPTION:ほのほイベント【辻野由樹　展〜挿絵でめぐる「千代姫」の世界と私の世界〜】 \n日時　２０２６年１月９日(金)〜２月１日(日)\n１１時〜１７時\n(毎週水曜日定休日) \n入場料　無料 \n🖼️2025年1月から10月まで、四国新聞連載小説「千代姫」の挿絵を描かせていただきました\n激動の幕末から明治にかけて、人々はみな現代と変わらず泣いたり笑ったり、挑んだり悩んだり懸命に生きていました\n私も泣いたり笑ったり、私なりの悪戦苦闘の記録を展示いたします\n1Fでは普段のイラストもご紹介\nご高覧いただければ幸いです\n(辻野由樹)
URL:https://f-honoho.net/event/%e8%be%bb%e9%87%8e%e7%94%b1%e6%a8%b9%e3%80%80%e5%b1%95%e3%80%9c%e6%8c%bf%e7%b5%b5%e3%81%a7%e3%82%81%e3%81%90%e3%82%8b%e3%80%8c%e5%8d%83%e4%bb%a3%e5%a7%ab%e3%80%8d%e3%81%ae%e4%b8%96%e7%95%8c%e3%81%a8/
ATTACH;FMTTYPE=image/jpeg:https://f-honoho.net/wp-content/uploads/2025/12/S__8978463.jpg
END:VEVENT
BEGIN:VEVENT
DTSTART;TZID=Asia/Tokyo:20260110T150000
DTEND;TZID=Asia/Tokyo:20260110T170000
DTSTAMP:20260420T181536
CREATED:20251214T065227Z
LAST-MODIFIED:20251214T065227Z
UID:152-1768057200-1768064400@f-honoho.net
SUMMARY:飯野和英(ヴィオラ)×西浦詩織(ヴァイオリン)×追川礼章(ピアノ)〜Kazuhide Iino Tour concert メビウス〜
DESCRIPTION:ほのほコンサート【飯野和英(ヴィオラ)×西浦詩織(ヴァイオリン)×追川礼章(ピアノ)〜Kazuhide Iino Tour concert メビウス〜】 \n日時　２０２６年１月１０日(土) １５時開演 \nチケット料金　５，０００円\n(１ドリンク別途) \n🎵飯野和英\n東京音楽大学にヴィオラに転向し、卒業後は東京芸術大学大学院修士課程に進学し、その後渡仏\nNational De Musique Concervatoire Edger Vareseにて研鑽を積む\n映画「ラーゲリより愛を込めて」「少年て犬」のストリングスを担当し、更なる活動の場を広げている \n🎵西浦詩織\n香川県高松市出身\n高松第一高等学校音楽科、東京音楽大学卒業\n2023年夏、オリジナルソロアルバム「凛〜Rin〜」をメジャーリリース\nソロ、室内楽、オーケストラなど幅広く活動している \n🎵追川礼章\n埼玉県立浦和高等学校卒業後、東京芸術大学楽理科を経て同大学大学院ソルフェージュ科を終了\nテレビ朝日「題名のない音楽会」など数々の音楽番組に出演\nこれまでに作編曲＆ピアノで参加した楽曲が数多くメジャーレーベルから発売
URL:https://f-honoho.net/event/%e9%a3%af%e9%87%8e%e5%92%8c%e8%8b%b1%e3%83%b4%e3%82%a3%e3%82%aa%e3%83%a9x%e8%a5%bf%e6%b5%a6%e8%a9%a9%e7%b9%94%e3%83%b4%e3%82%a1%e3%82%a4%e3%82%aa%e3%83%aa%e3%83%b3x%e8%bf%bd%e5%b7%9d/
ATTACH;FMTTYPE=image/jpeg:https://f-honoho.net/wp-content/uploads/2025/12/S__8937482.jpg
END:VEVENT
BEGIN:VEVENT
DTSTART;TZID=Asia/Tokyo:20260112T150000
DTEND;TZID=Asia/Tokyo:20260112T170000
DTSTAMP:20260420T181536
CREATED:20251215T220322Z
LAST-MODIFIED:20251215T220322Z
UID:158-1768230000-1768237200@f-honoho.net
SUMMARY:大久保かおり(クラリネット)×館山康弘(ユーフォニアム)×香川明美(ピアノ)〜午後の音楽会〜
DESCRIPTION:ほのほコンサート【大久保かおり(クラリネット)×館山康弘(ユーフォニアム)×香川明美(ピアノ)〜午後の音楽会〜】 \n日時　２０２６年１月１２日(月・祝) １５時開演 \nチケット料金　１，０００円\n(１ドリンク付き　　　　　　　未就学児は無料 \n🎵演奏会に足を運ぶのが初めての方も、久しぶりの方も、小さなお子様とご一緒の方も\nどうぞ、安心してお越しください\n心に残る素敵な音楽との出会いになりますように😊
URL:https://f-honoho.net/event/%e5%a4%a7%e4%b9%85%e4%bf%9d%e3%81%8b%e3%81%8a%e3%82%8a%e3%82%af%e3%83%a9%e3%83%aa%e3%83%8d%e3%83%83%e3%83%88x%e9%a4%a8%e5%b1%b1%e5%ba%b7%e5%bc%98%e3%83%a6%e3%83%bc%e3%83%95%e3%82%a9%e3%83%8b/
ATTACH;FMTTYPE=image/jpeg:https://f-honoho.net/wp-content/uploads/2025/12/S__8945671.jpg
END:VEVENT
BEGIN:VEVENT
DTSTART;TZID=Asia/Tokyo:20260117T130000
DTEND;TZID=Asia/Tokyo:20260117T160000
DTSTAMP:20260420T181536
CREATED:20251221T072200Z
LAST-MODIFIED:20251221T072341Z
UID:164-1768654800-1768665600@f-honoho.net
SUMMARY:ビジョンボードを作ろう❗️
DESCRIPTION:ほのほワークショップ【ビジョンボードを作ろう❗️】 \n日時　２０２６年１月１７日(土) １３時〜１６時 \n参加費　５，０００円(１ドリンク付き) \n講師　大谷　洋子\n(整理収納アドバイザー) \n５名様限定です \n👍今年の夢を見える形にして叶えよう❗️\nビジョンボードとは自分のなりたい姿や叶えたい夢、目標を写真、イラスト、言葉などで視覚的にまとめたものです \n🍎今の環境に違和感があるけどまだ動き出せない方\n🍎もっと自分らしく生きたい方\n🍎これからの自分に必要なことを明確にしたい方 \n😄特典：九星気学個別アドバイス付き(運気の波に乗りましょう)
URL:https://f-honoho.net/event/%e3%83%93%e3%82%b8%e3%83%a7%e3%83%b3%e3%83%9c%e3%83%bc%e3%83%89%e3%82%92%e4%bd%9c%e3%82%8d%e3%81%86%e2%9d%97%ef%b8%8f/
ATTACH;FMTTYPE=image/jpeg:https://f-honoho.net/wp-content/uploads/2025/12/S__8986633.jpg
END:VEVENT
BEGIN:VEVENT
DTSTART;TZID=Asia/Tokyo:20260125T150000
DTEND;TZID=Asia/Tokyo:20260125T170000
DTSTAMP:20260420T181536
CREATED:20251129T140100Z
LAST-MODIFIED:20251129T140317Z
UID:125-1769353200-1769360400@f-honoho.net
SUMMARY:梅田玲奈　Piano Solo Concert〜新しい世界〜
DESCRIPTION:ほのほコンサート【梅田玲奈　Piano Solo Concert〜新しい世界〜】 \n日時　２０２６年１月２５日(日) １５時開演 \nチケット料金　３，０００円(１ドリンクつき) \n🎹枠やテーマにとらわれずいいと感じたものを臆せず自由に表現してみたいと思います✨\nジャズかもしれないけどしジャズではないかもしれない…\nどんなものが飛び出すかわかりません\nお楽しみいただけるととても嬉しいです(梅田玲奈)
URL:https://f-honoho.net/event/%e6%a2%85%e7%94%b0%e7%8e%b2%e5%a5%88%e3%80%80piano-solo-concert%e3%80%9c%e6%96%b0%e3%81%97%e3%81%84%e4%b8%96%e7%95%8c%e3%80%9c/
ATTACH;FMTTYPE=image/jpeg:https://f-honoho.net/wp-content/uploads/2025/11/S__8839212.jpg
END:VEVENT
END:VCALENDAR