BEGIN:VCALENDAR
VERSION:2.0
PRODID:-// - ECPv6.15.20//NONSGML v1.0//EN
CALSCALE:GREGORIAN
METHOD:PUBLISH
X-ORIGINAL-URL:https://f-honoho.net
X-WR-CALDESC: のイベント
REFRESH-INTERVAL;VALUE=DURATION:PT1H
X-Robots-Tag:noindex
X-PUBLISHED-TTL:PT1H
BEGIN:VTIMEZONE
TZID:Asia/Tokyo
BEGIN:STANDARD
TZOFFSETFROM:+0900
TZOFFSETTO:+0900
TZNAME:JST
DTSTART:20240101T000000
END:STANDARD
END:VTIMEZONE
BEGIN:VEVENT
DTSTART;TZID=Asia/Tokyo:20251227T110000
DTEND;TZID=Asia/Tokyo:20251227T140000
DTSTAMP:20260421T044347
CREATED:20251206T100643Z
LAST-MODIFIED:20251206T100643Z
UID:144-1766833200-1766844000@f-honoho.net
SUMMARY:桐谷さえり　〜国境を超えて　FAR FROM HOME〜
DESCRIPTION:ほのほイベント【桐谷さえり　〜国境を超えて　FAR FROM HOME〜】 \n日時　２０２５年１２月２７日(土)\n【映像作品放映】　１１時〜\n【トーク・イベント】　１４時〜 \n🖼️パフォーマンスやビデオ、彫刻・写真・絵画などを表現するアーティスト\n1997年ペンシルベニア大学大学院油画科修了\n1998〜2023年ニューヨークを起点に活動\n現在はクロアチアと日本を拠点として活動中\nスミソニアン・ポートレート・ギャラリー(ワシントンD.C.)彫刻作品「100ポンドの米」で最優秀作品賞を受賞\n日本文化庁、ポーランド美術財団、ゴールドマン・サックス・ギブズなど、国内外で数々の助成プログラムに採用される他、国内外の美術館にて、数多く出展
URL:https://f-honoho.net/event/%e6%a1%90%e8%b0%b7%e3%81%95%e3%81%88%e3%82%8a%e3%80%80%e3%80%9c%e5%9b%bd%e5%a2%83%e3%82%92%e8%b6%85%e3%81%88%e3%81%a6%e3%80%80far-from-home%e3%80%9c/
ATTACH;FMTTYPE=image/jpeg:https://f-honoho.net/wp-content/uploads/2025/12/S__8888337.jpg
END:VEVENT
BEGIN:VEVENT
DTSTART;TZID=Asia/Tokyo:20251221T150000
DTEND;TZID=Asia/Tokyo:20251221T170000
DTSTAMP:20260421T044347
CREATED:20251214T073604Z
LAST-MODIFIED:20251214T073604Z
UID:155-1766329200-1766336400@f-honoho.net
SUMMARY:ケイコ・ボルジェソン　Christmas Live
DESCRIPTION:ほのほコンサート【ケイコ・ボルジェソン　Christmas Live】 \n日時　２０２５年１２月２１日(日) １５時開演 \nチケット料金　４，０００円(１ドリンク付き) \n🎄日本が誇る世界を巡るカリスマJazz Vocalist pianist\n現在ピアノ革命を起し、StreetPianoの設置、子供が自由に弾ける場所を作る🎹
URL:https://f-honoho.net/event/%e3%82%b1%e3%82%a4%e3%82%b3%e3%83%bb%e3%83%9c%e3%83%ab%e3%82%b8%e3%82%a7%e3%82%bd%e3%83%b3%e3%80%80christmas-live/
ATTACH;FMTTYPE=image/jpeg:https://f-honoho.net/wp-content/uploads/2025/12/S__8937490.jpg
END:VEVENT
BEGIN:VEVENT
DTSTART;TZID=Asia/Tokyo:20251214T150000
DTEND;TZID=Asia/Tokyo:20251214T170000
DTSTAMP:20260421T044347
CREATED:20251210T112128Z
LAST-MODIFIED:20251210T112156Z
UID:148-1765724400-1765731600@f-honoho.net
SUMMARY:藤岡友香　Christmas Live with 永田ジョージ　in 高松
DESCRIPTION:ほのほコンサート【藤岡友香　Christmas Live with 永田ジョージ　in 高松】 \n日時　２０２５年１２月１４日(日) １５時開演 \nチケット料金　５，０００円\n(１ドリンク別途) \n🎵昨年末、宮古島を離れ今年はとにかく自分の心に従ってワクワクすることだけに乗っかってきました💕\nこの一年、私が沢山吸収し、有り余ったエネルギーを歌で皆さんにお届けしたいと思います\n会場で皆さんにお会いできるのを心から楽しみにしています\n(藤岡友香)
URL:https://f-honoho.net/event/%e8%97%a4%e5%b2%a1%e5%8f%8b%e9%a6%99%e3%80%80christmas-live-with-%e6%b0%b8%e7%94%b0%e3%82%b8%e3%83%a7%e3%83%bc%e3%82%b8%e3%80%80in-%e9%ab%98%e6%9d%be/
ATTACH;FMTTYPE=image/jpeg:https://f-honoho.net/wp-content/uploads/2025/12/S__8921091.jpg
END:VEVENT
BEGIN:VEVENT
DTSTART;TZID=Asia/Tokyo:20251207T140000
DTEND;TZID=Asia/Tokyo:20251207T170000
DTSTAMP:20260421T044347
CREATED:20251129T140614Z
LAST-MODIFIED:20251129T154526Z
UID:128-1765116000-1765126800@f-honoho.net
SUMMARY:水上裕子　Christmas Piano Show
DESCRIPTION:ほのほコンサート【水上裕子　Christmas Piano Show】 \n日時　２０２５年１２月７日(日) １４時〜 \nチケット料金　３，０００円\n(１ドリンク別途) \n🎹水上裕子の驚くべき表現豊かなピアノは、息を呑むほど美しい(音楽誌「Mainly Piano」より) \n独自の才能を持つピアニスト水上裕子は、音楽の新たな水平線を切り拓き、驚くべき作品を生み出した(音楽誌「Clouzina」より) \nほのほでの２回目のコンサート🎄\nミーナさんのピアノでクリスマスをお楽しみください⛄️
URL:https://f-honoho.net/event/%e6%b0%b4%e4%b8%8a%e8%a3%95%e5%ad%90%e3%80%80christmas-piano-show/
ATTACH;FMTTYPE=image/jpeg:https://f-honoho.net/wp-content/uploads/2025/11/S__8773668.jpg
END:VEVENT
END:VCALENDAR